BEGIN:VCALENDAR
VERSION:2.0
PRODID:-//Visit Fish Creek - ECPv6.15.20//NONSGML v1.0//EN
CALSCALE:GREGORIAN
METHOD:PUBLISH
X-ORIGINAL-URL:https://visitfishcreek.com
X-WR-CALDESC:Events for Visit Fish Creek
REFRESH-INTERVAL;VALUE=DURATION:PT1H
X-Robots-Tag:noindex
X-PUBLISHED-TTL:PT1H
BEGIN:VTIMEZONE
TZID:America/Chicago
BEGIN:DAYLIGHT
TZOFFSETFROM:-0600
TZOFFSETTO:-0500
TZNAME:CDT
DTSTART:20240310T080000
END:DAYLIGHT
BEGIN:STANDARD
TZOFFSETFROM:-0500
TZOFFSETTO:-0600
TZNAME:CST
DTSTART:20241103T070000
END:STANDARD
BEGIN:DAYLIGHT
TZOFFSETFROM:-0600
TZOFFSETTO:-0500
TZNAME:CDT
DTSTART:20250309T080000
END:DAYLIGHT
BEGIN:STANDARD
TZOFFSETFROM:-0500
TZOFFSETTO:-0600
TZNAME:CST
DTSTART:20251102T070000
END:STANDARD
BEGIN:DAYLIGHT
TZOFFSETFROM:-0600
TZOFFSETTO:-0500
TZNAME:CDT
DTSTART:20260308T080000
END:DAYLIGHT
BEGIN:STANDARD
TZOFFSETFROM:-0500
TZOFFSETTO:-0600
TZNAME:CST
DTSTART:20261101T070000
END:STANDARD
END:VTIMEZONE
BEGIN:VEVENT
DTSTART;TZID=America/Chicago:20250829T170000
DTEND;TZID=America/Chicago:20250829T190000
DTSTAMP:20260425T095618
CREATED:20241202T173410Z
LAST-MODIFIED:20241202T173410Z
UID:5626-1756486800-1756494000@visitfishcreek.com
SUMMARY:Fish Fri Concert Series
DESCRIPTION:Bring your blankets and chairs to Fish Creek Beach  and enjoy FREE concerts by professional local and visiting musicians while taking in beautiful scenery and bustling downtown Fish Creek. Just a short walk from our many stores\, restaurants\, lodging facilities\, the waterfront and more. Fish Fri Concert Series is a musical oasis you won’t want to leave. \nConcerts start at 5pm and end at 7pm. Make plans to enjoy the music and then head to one of our many restaurants for dinner following the end of the concert. \nIf it is raining\, concerts will be moved inside to the Old Town Hall (corner of Maple & Spruce across from Clark Park downtown Fish Creek). Check our Facebook page for rain announcements. \n \n  \nThank you to our sponsors! \nTITLE SPONSOR: \nBayside\nhttps://www.baysidedoorcounty.com/\n\n \n  \n  \nSTAGE SPONSORS: \nParkwood Lodge Door County\nhttps://www.parkwoodlodge.com/ \n \n  \n  \n  \n  \n  \n  \nO’Meara’s Irish House\nhttps://www.omearasirish.com/ \n \n  \n  \n  \n  \nEdgewater Cottages\nhttps://www.edgewatercottagesfishcreek.com/
URL:https://visitfishcreek.com/event/fish-fri-concert-series/2025-08-29/
ATTACH;FMTTYPE=image/jpeg:https://visitfishcreek.com/wp-content/uploads/2024/12/0F0A3110-scaled.jpeg
END:VEVENT
BEGIN:VEVENT
DTSTART;TZID=America/Chicago:20250815T170000
DTEND;TZID=America/Chicago:20250815T190000
DTSTAMP:20260425T095618
CREATED:20241202T173410Z
LAST-MODIFIED:20250812T203545Z
UID:5371-1755277200-1755284400@visitfishcreek.com
SUMMARY:Fish Fri Concert Series
DESCRIPTION:Bring your blankets and chairs to Fish Creek Beach  and enjoy FREE concerts by professional local and visiting musicians while taking in beautiful scenery and bustling downtown Fish Creek. Just a short walk from our many stores\, restaurants\, lodging facilities\, the waterfront and more. Fish Fri Concert Series is a musical oasis you won’t want to leave. \nConcerts start at 5pm and end at 7pm. Make plans to enjoy the music and then head to one of our many restaurants for dinner following the end of the concert. \nIf it is raining\, concerts will be moved inside to the Old Town Hall (corner of Maple & Spruce across from Clark Park downtown Fish Creek). Check our Facebook page for rain announcements. \n \n  \nThank you to our sponsors! \nTITLE SPONSOR: \nBayside\nhttps://www.baysidedoorcounty.com/\n\n \n  \n  \nSTAGE SPONSORS: \nParkwood Lodge Door County\nhttps://www.parkwoodlodge.com/ \n \n  \n  \n  \n  \n  \n  \nO’Meara’s Irish House\nhttps://www.omearasirish.com/ \n \n  \n  \n  \n  \nEdgewater Cottages\nhttps://www.edgewatercottagesfishcreek.com/
URL:https://visitfishcreek.com/event/fish-fri-concert-series/2025-08-15/
ATTACH;FMTTYPE=image/jpeg:https://visitfishcreek.com/wp-content/uploads/2024/12/0F0A3110-scaled.jpeg
END:VEVENT
END:VCALENDAR